BEGIN:VCALENDAR
VERSION:2.0
PRODID:-//USML PHOTOCLUB MAISONS-LAFFITTE / Le Mesnil le Roi - ECPv6.15.20//NONSGML v1.0//EN
CALSCALE:GREGORIAN
METHOD:PUBLISH
X-ORIGINAL-URL:https://photomaisonslaffitte.fr/photo_club_ml
X-WR-CALDESC:Évènements pour USML PHOTOCLUB MAISONS-LAFFITTE / Le Mesnil le Roi
REFRESH-INTERVAL;VALUE=DURATION:PT1H
X-Robots-Tag:noindex
X-PUBLISHED-TTL:PT1H
BEGIN:VTIMEZONE
TZID:Europe/Paris
BEGIN:DAYLIGHT
TZOFFSETFROM:+0100
TZOFFSETTO:+0200
TZNAME:CEST
DTSTART:20250330T010000
END:DAYLIGHT
BEGIN:STANDARD
TZOFFSETFROM:+0200
TZOFFSETTO:+0100
TZNAME:CET
DTSTART:20251026T010000
END:STANDARD
BEGIN:DAYLIGHT
TZOFFSETFROM:+0100
TZOFFSETTO:+0200
TZNAME:CEST
DTSTART:20260329T010000
END:DAYLIGHT
BEGIN:STANDARD
TZOFFSETFROM:+0200
TZOFFSETTO:+0100
TZNAME:CET
DTSTART:20261025T010000
END:STANDARD
BEGIN:DAYLIGHT
TZOFFSETFROM:+0100
TZOFFSETTO:+0200
TZNAME:CEST
DTSTART:20270328T010000
END:DAYLIGHT
BEGIN:STANDARD
TZOFFSETFROM:+0200
TZOFFSETTO:+0100
TZNAME:CET
DTSTART:20271031T010000
END:STANDARD
END:VTIMEZONE
BEGIN:VEVENT
DTSTART;VALUE=DATE:20260214
DTEND;VALUE=DATE:20260223
DTSTAMP:20260424T165932
CREATED:20251031T204504Z
LAST-MODIFIED:20251031T204526Z
UID:14809-1771027200-1771804799@photomaisonslaffitte.fr
SUMMARY:Expo Regards Multiples- Le Mesnil le Roi 2026
DESCRIPTION:vernissage prévu le  14/02 midi à confirmer \nfermé le lundi \nde 14h à 18h00 \nrécupération des œuvres : le 22 à 18h00 \n  \nentrée libre
URL:https://photomaisonslaffitte.fr/photo_club_ml/event/expo-regards-multiples-le-mesnil-le-roi-2026/
LOCATION:centre Georges Brassens Le-Mesnil-Le-Roi\, 100\, rue Jules Rein\, Le-Mesnil-Le-Roi\, 78600\, France
CATEGORIES:Exposition
ORGANIZER;CN="Club Photo PCML":MAILTO:pcml.photoclub@gmail.com
END:VEVENT
BEGIN:VEVENT
DTSTART;TZID=Europe/Paris:20260219T200000
DTEND;TZID=Europe/Paris:20260219T230000
DTSTAMP:20260424T165932
CREATED:20251031T205350Z
LAST-MODIFIED:20251031T205350Z
UID:14813-1771531200-1771542000@photomaisonslaffitte.fr
SUMMARY:Analyse IP: interprétation personnelle/développement d'une photo
DESCRIPTION:Analyse IP: interprétation personnelle/développement d’une photo ( à partir de 3 ou 4 fichiers tiff fournis issus de raw non traités par des membres volontaires) \nLes volontaires pour fournir des fichiers tiff ( formats originaux) sont les bienvenus (idéalement des photos à récupérer brutes de traitement) \nchoisir 2 des photos et les traiter \nAttention : pas d’ajout d’élément qui ne soit pas sur les photos (mais possibilité de mixer pour les créatifs) \nouverture salle 20h15-début de séance :20h30 \n 
URL:https://photomaisonslaffitte.fr/photo_club_ml/event/analyse-ip-interpretation-personnelle-developpement-dune-photo/
LOCATION:salle\,  9bis\, rue Madeleine Boulenc de Crèvecoeur  à Maisons-Laffitte
CATEGORIES:Réunion / Séance
END:VEVENT
END:VCALENDAR