BEGIN:VCALENDAR
VERSION:2.0
PRODID:-//USML PHOTOCLUB MAISONS-LAFFITTE / Le Mesnil le Roi - ECPv6.15.20//NONSGML v1.0//EN
CALSCALE:GREGORIAN
METHOD:PUBLISH
X-WR-CALNAME:USML PHOTOCLUB MAISONS-LAFFITTE / Le Mesnil le Roi
X-ORIGINAL-URL:https://photomaisonslaffitte.fr/photo_club_ml
X-WR-CALDESC:Évènements pour USML PHOTOCLUB MAISONS-LAFFITTE / Le Mesnil le Roi
REFRESH-INTERVAL;VALUE=DURATION:PT1H
X-Robots-Tag:noindex
X-PUBLISHED-TTL:PT1H
BEGIN:VTIMEZONE
TZID:Europe/Paris
BEGIN:DAYLIGHT
TZOFFSETFROM:+0100
TZOFFSETTO:+0200
TZNAME:CEST
DTSTART:20250330T010000
END:DAYLIGHT
BEGIN:STANDARD
TZOFFSETFROM:+0200
TZOFFSETTO:+0100
TZNAME:CET
DTSTART:20251026T010000
END:STANDARD
BEGIN:DAYLIGHT
TZOFFSETFROM:+0100
TZOFFSETTO:+0200
TZNAME:CEST
DTSTART:20260329T010000
END:DAYLIGHT
BEGIN:STANDARD
TZOFFSETFROM:+0200
TZOFFSETTO:+0100
TZNAME:CET
DTSTART:20261025T010000
END:STANDARD
BEGIN:DAYLIGHT
TZOFFSETFROM:+0100
TZOFFSETTO:+0200
TZNAME:CEST
DTSTART:20270328T010000
END:DAYLIGHT
BEGIN:STANDARD
TZOFFSETFROM:+0200
TZOFFSETTO:+0100
TZNAME:CET
DTSTART:20271031T010000
END:STANDARD
END:VTIMEZONE
BEGIN:VEVENT
DTSTART;TZID=Europe/Paris:20260507T200000
DTEND;TZID=Europe/Paris:20260507T230000
DTSTAMP:20260424T191603
CREATED:20251031T215721Z
LAST-MODIFIED:20251031T215721Z
UID:14866-1778184000-1778194800@photomaisonslaffitte.fr
SUMMARY:Analyse IP : thème libre
DESCRIPTION:ouverture salle 20h15-début de séance :20h30
URL:https://photomaisonslaffitte.fr/photo_club_ml/event/analyse-ip-theme-libre/
LOCATION:salle\,  9bis\, rue Madeleine Boulenc de Crèvecoeur  à Maisons-Laffitte
CATEGORIES:Réunion / Séance
END:VEVENT
BEGIN:VEVENT
DTSTART;TZID=Europe/Paris:20260507T200000
DTEND;TZID=Europe/Paris:20260507T230000
DTSTAMP:20260424T191603
CREATED:20251031T220005Z
LAST-MODIFIED:20251031T224536Z
UID:14868-1778184000-1778194800@photomaisonslaffitte.fr
SUMMARY:date limite dépôt concours interne (thème monde agricole)
DESCRIPTION:concours papier- date limite de dépôt (lors de la réunion du jour) \nréglement voir à la date du concours
URL:https://photomaisonslaffitte.fr/photo_club_ml/event/date-limite-depot-conocurs-interne-theme-monde-agricole/
CATEGORIES:Concours
END:VEVENT
END:VCALENDAR