BEGIN:VCALENDAR
VERSION:2.0
PRODID:-//USML PHOTOCLUB MAISONS-LAFFITTE / Le Mesnil le Roi - ECPv6.15.20//NONSGML v1.0//EN
CALSCALE:GREGORIAN
METHOD:PUBLISH
X-WR-CALNAME:USML PHOTOCLUB MAISONS-LAFFITTE / Le Mesnil le Roi
X-ORIGINAL-URL:https://photomaisonslaffitte.fr/photo_club_ml
X-WR-CALDESC:Évènements pour USML PHOTOCLUB MAISONS-LAFFITTE / Le Mesnil le Roi
REFRESH-INTERVAL;VALUE=DURATION:PT1H
X-Robots-Tag:noindex
X-PUBLISHED-TTL:PT1H
BEGIN:VTIMEZONE
TZID:Europe/Paris
BEGIN:DAYLIGHT
TZOFFSETFROM:+0100
TZOFFSETTO:+0200
TZNAME:CEST
DTSTART:20250330T010000
END:DAYLIGHT
BEGIN:STANDARD
TZOFFSETFROM:+0200
TZOFFSETTO:+0100
TZNAME:CET
DTSTART:20251026T010000
END:STANDARD
BEGIN:DAYLIGHT
TZOFFSETFROM:+0100
TZOFFSETTO:+0200
TZNAME:CEST
DTSTART:20260329T010000
END:DAYLIGHT
BEGIN:STANDARD
TZOFFSETFROM:+0200
TZOFFSETTO:+0100
TZNAME:CET
DTSTART:20261025T010000
END:STANDARD
BEGIN:DAYLIGHT
TZOFFSETFROM:+0100
TZOFFSETTO:+0200
TZNAME:CEST
DTSTART:20270328T010000
END:DAYLIGHT
BEGIN:STANDARD
TZOFFSETFROM:+0200
TZOFFSETTO:+0100
TZNAME:CET
DTSTART:20271031T010000
END:STANDARD
END:VTIMEZONE
BEGIN:VEVENT
DTSTART;TZID=Europe/Paris:20260312T203000
DTEND;TZID=Europe/Paris:20260312T230000
DTSTAMP:20260424T195903
CREATED:20260310T124831Z
LAST-MODIFIED:20260311T100837Z
UID:15277-1773347400-1773356400@photomaisonslaffitte.fr
SUMMARY:Atelier thème libre
DESCRIPTION:animation : Alain
URL:https://photomaisonslaffitte.fr/photo_club_ml/event/atelier-theme-libre-a-confirmer/
LOCATION:salle\,  9bis\, rue Madeleine Boulenc de Crèvecoeur  à Maisons-Laffitte
CATEGORIES:Atelier
END:VEVENT
BEGIN:VEVENT
DTSTART;TZID=Europe/Paris:20260317T200000
DTEND;TZID=Europe/Paris:20260317T230000
DTSTAMP:20260424T195903
CREATED:20251031T211757Z
LAST-MODIFIED:20260310T090133Z
UID:14825-1773777600-1773788400@photomaisonslaffitte.fr
SUMMARY:Présentation technique : Flashs cobras
DESCRIPTION:ouverture salle 20h15-début de séance :20h30 \nattention évènement prévu le 12\, remis au 17mars \nPar Michel
URL:https://photomaisonslaffitte.fr/photo_club_ml/event/presentation-technique-flashs-cobras/
LOCATION:salle\,  9bis\, rue Madeleine Boulenc de Crèvecoeur  à Maisons-Laffitte
CATEGORIES:Atelier
END:VEVENT
BEGIN:VEVENT
DTSTART;TZID=Europe/Paris:20260317T200000
DTEND;TZID=Europe/Paris:20260317T230000
DTSTAMP:20260424T195903
CREATED:20251031T212217Z
LAST-MODIFIED:20260310T124554Z
UID:14830-1773777600-1773788400@photomaisonslaffitte.fr
SUMMARY:Atelier technique la colorimétrie\, les couleurs- REPORTE
DESCRIPTION:ouverture salle 20h15-début de séance :20h30 \nattention atelier remplacé par atelier flash cobra et décalé a date ultérieure \n  \nanimateur à trouver
URL:https://photomaisonslaffitte.fr/photo_club_ml/event/atelier-technique-la-colorimetrie-les-couleurs/
LOCATION:salle\,  9bis\, rue Madeleine Boulenc de Crèvecoeur  à Maisons-Laffitte
CATEGORIES:Atelier
END:VEVENT
BEGIN:VEVENT
DTSTART;TZID=Europe/Paris:20260324T200000
DTEND;TZID=Europe/Paris:20260324T230000
DTSTAMP:20260424T195903
CREATED:20251031T212642Z
LAST-MODIFIED:20260310T124355Z
UID:14834-1774382400-1774393200@photomaisonslaffitte.fr
SUMMARY:Atelier technique-Découverte de la macro
DESCRIPTION:ouverture salle 20h15-début de séance :20h30 \nmacro et proxy \n  \n 
URL:https://photomaisonslaffitte.fr/photo_club_ml/event/atelier-technique-decouverte-de-la-macro/
LOCATION:salle\,  9bis\, rue Madeleine Boulenc de Crèvecoeur  à Maisons-Laffitte
CATEGORIES:Atelier
END:VEVENT
END:VCALENDAR