BEGIN:VCALENDAR
VERSION:2.0
PRODID:-//USML PHOTOCLUB MAISONS-LAFFITTE / Le Mesnil le Roi - ECPv6.15.20//NONSGML v1.0//EN
CALSCALE:GREGORIAN
METHOD:PUBLISH
X-WR-CALNAME:USML PHOTOCLUB MAISONS-LAFFITTE / Le Mesnil le Roi
X-ORIGINAL-URL:https://photomaisonslaffitte.fr/photo_club_ml
X-WR-CALDESC:Évènements pour USML PHOTOCLUB MAISONS-LAFFITTE / Le Mesnil le Roi
REFRESH-INTERVAL;VALUE=DURATION:PT1H
X-Robots-Tag:noindex
X-PUBLISHED-TTL:PT1H
BEGIN:VTIMEZONE
TZID:Europe/Paris
BEGIN:DAYLIGHT
TZOFFSETFROM:+0100
TZOFFSETTO:+0200
TZNAME:CEST
DTSTART:20250330T010000
END:DAYLIGHT
BEGIN:STANDARD
TZOFFSETFROM:+0200
TZOFFSETTO:+0100
TZNAME:CET
DTSTART:20251026T010000
END:STANDARD
BEGIN:DAYLIGHT
TZOFFSETFROM:+0100
TZOFFSETTO:+0200
TZNAME:CEST
DTSTART:20260329T010000
END:DAYLIGHT
BEGIN:STANDARD
TZOFFSETFROM:+0200
TZOFFSETTO:+0100
TZNAME:CET
DTSTART:20261025T010000
END:STANDARD
BEGIN:DAYLIGHT
TZOFFSETFROM:+0100
TZOFFSETTO:+0200
TZNAME:CEST
DTSTART:20270328T010000
END:DAYLIGHT
BEGIN:STANDARD
TZOFFSETFROM:+0200
TZOFFSETTO:+0100
TZNAME:CET
DTSTART:20271031T010000
END:STANDARD
END:VTIMEZONE
BEGIN:VEVENT
DTSTART;TZID=Europe/Paris:20260519T200000
DTEND;TZID=Europe/Paris:20260519T230000
DTSTAMP:20260424T195853
CREATED:20251031T221616Z
LAST-MODIFIED:20251031T221616Z
UID:14872-1779220800-1779231600@photomaisonslaffitte.fr
SUMMARY:Atelier histoire photographique (decouverte d'un auteur)
DESCRIPTION:a confirmer de même que l’animateur \nouverture salle 20h15-début de séance :20h30
URL:https://photomaisonslaffitte.fr/photo_club_ml/event/atelier-histoire-photographique-decouverte-dun-auteur/
LOCATION:salle\,  9bis\, rue Madeleine Boulenc de Crèvecoeur  à Maisons-Laffitte
CATEGORIES:Atelier
END:VEVENT
END:VCALENDAR