BEGIN:VCALENDAR
VERSION:2.0
PRODID:-//USML PHOTOCLUB MAISONS-LAFFITTE / Le Mesnil le Roi - ECPv6.15.20//NONSGML v1.0//EN
CALSCALE:GREGORIAN
METHOD:PUBLISH
X-ORIGINAL-URL:https://photomaisonslaffitte.fr/photo_club_ml
X-WR-CALDESC:Évènements pour USML PHOTOCLUB MAISONS-LAFFITTE / Le Mesnil le Roi
REFRESH-INTERVAL;VALUE=DURATION:PT1H
X-Robots-Tag:noindex
X-PUBLISHED-TTL:PT1H
BEGIN:VTIMEZONE
TZID:Europe/Paris
BEGIN:DAYLIGHT
TZOFFSETFROM:+0100
TZOFFSETTO:+0200
TZNAME:CEST
DTSTART:20240331T010000
END:DAYLIGHT
BEGIN:STANDARD
TZOFFSETFROM:+0200
TZOFFSETTO:+0100
TZNAME:CET
DTSTART:20241027T010000
END:STANDARD
BEGIN:DAYLIGHT
TZOFFSETFROM:+0100
TZOFFSETTO:+0200
TZNAME:CEST
DTSTART:20250330T010000
END:DAYLIGHT
BEGIN:STANDARD
TZOFFSETFROM:+0200
TZOFFSETTO:+0100
TZNAME:CET
DTSTART:20251026T010000
END:STANDARD
BEGIN:DAYLIGHT
TZOFFSETFROM:+0100
TZOFFSETTO:+0200
TZNAME:CEST
DTSTART:20260329T010000
END:DAYLIGHT
BEGIN:STANDARD
TZOFFSETFROM:+0200
TZOFFSETTO:+0100
TZNAME:CET
DTSTART:20261025T010000
END:STANDARD
BEGIN:DAYLIGHT
TZOFFSETFROM:+0100
TZOFFSETTO:+0200
TZNAME:CEST
DTSTART:20270328T010000
END:DAYLIGHT
BEGIN:STANDARD
TZOFFSETFROM:+0200
TZOFFSETTO:+0100
TZNAME:CET
DTSTART:20271031T010000
END:STANDARD
END:VTIMEZONE
BEGIN:VEVENT
DTSTART;TZID=Europe/Paris:20251202T080000
DTEND;TZID=Europe/Paris:20251202T170000
DTSTAMP:20260424T195551
CREATED:20250908T073623Z
LAST-MODIFIED:20251031T083840Z
UID:14435-1764662400-1764694800@photomaisonslaffitte.fr
SUMMARY:Analyse IP : SELECTION PHOTOS SORTIE COULEE VERTE et présentation sélection nature National IP nature
DESCRIPTION:ouverture 20h15- début séance 20h30 \nvisualisation des photos de la sortie “coulée verte” \, sélection de photos pour exposition Atalante et\, suivant le temps disponible restant\, présentation (diaporama) des 18 photos du club sélectionnées pour le N1 IP Nature
URL:https://photomaisonslaffitte.fr/photo_club_ml/event/analyse-ip-nature-dont-selections-pour-n1-avis-regional-sur-photos-non-selectionnees-en-n1/
LOCATION:salle\,  9bis\, rue Madeleine Boulenc de Crèvecoeur  à Maisons-Laffitte
CATEGORIES:Atelier,Concours
END:VEVENT
BEGIN:VEVENT
DTSTART;TZID=Europe/Paris:20251204T200000
DTEND;TZID=Europe/Paris:20251204T230000
DTSTAMP:20260424T195551
CREATED:20250908T073739Z
LAST-MODIFIED:20250908T073739Z
UID:14437-1764878400-1764889200@photomaisonslaffitte.fr
SUMMARY:Analyse IP: Triptyque
DESCRIPTION:ouverture 20h15- début séance 20h30
URL:https://photomaisonslaffitte.fr/photo_club_ml/event/analyse-ip-triptyque/
LOCATION:salle\,  9bis\, rue Madeleine Boulenc de Crèvecoeur  à Maisons-Laffitte
CATEGORIES:Réunion / Séance
END:VEVENT
BEGIN:VEVENT
DTSTART;VALUE=DATE:20251205
DTEND;VALUE=DATE:20251206
DTSTAMP:20260424T195551
CREATED:20250908T073841Z
LAST-MODIFIED:20250908T073929Z
UID:14439-1764892800-1764979199@photomaisonslaffitte.fr
SUMMARY:Date limite de dépôt des photos pour l’expo Regards multiples (Le Mesnil)
DESCRIPTION:date limite à 23h59 -pour participation (dépot photos numériques sur site)
URL:https://photomaisonslaffitte.fr/photo_club_ml/event/date-limite-de-depot-des-photos-pour-lexpo-regards-multiples-le-mesnil/
END:VEVENT
BEGIN:VEVENT
DTSTART;TZID=Europe/Paris:20251205T230000
DTEND;TZID=Europe/Paris:20251207T233000
DTSTAMP:20260424T195551
CREATED:20251031T084558Z
LAST-MODIFIED:20251031T084634Z
UID:14777-1764975600-1765150200@photomaisonslaffitte.fr
SUMMARY:TELETHON 2025
DESCRIPTION:Suivi d’évènements liés au téléthon sur Maisons-Laffitte et compétition Ninjutsu \nles 6 et 7 décembre 2025 \nlieux probables: CSC / POPD (pour la compétition)
URL:https://photomaisonslaffitte.fr/photo_club_ml/event/telethon-2025/
CATEGORIES:évènements suivis
ATTACH;FMTTYPE=image/webp:https://photomaisonslaffitte.fr/photo_club_ml/wp-content/uploads/2024/11/AFM_TELETHON_Q.png.webp
END:VEVENT
BEGIN:VEVENT
DTSTART;TZID=Europe/Paris:20251209T200000
DTEND;TZID=Europe/Paris:20251209T230000
DTSTAMP:20260424T195551
CREATED:20250908T074152Z
LAST-MODIFIED:20250908T074152Z
UID:14442-1765310400-1765321200@photomaisonslaffitte.fr
SUMMARY:Analyse IP: Ciel  (avec exercice notation)
DESCRIPTION:IA interdite\, photos réalisées pr l’auteur…. \n  \n  \nouverture 20h15- début séance 20h30
URL:https://photomaisonslaffitte.fr/photo_club_ml/event/analyse-ip-ciel-avec-exercice-notation/
CATEGORIES:Réunion / Séance
END:VEVENT
BEGIN:VEVENT
DTSTART;TZID=Europe/Paris:20251211T200000
DTEND;TZID=Europe/Paris:20251211T230000
DTSTAMP:20260424T195551
CREATED:20250908T074302Z
LAST-MODIFIED:20250908T074349Z
UID:14444-1765483200-1765494000@photomaisonslaffitte.fr
SUMMARY:Analyse IP: Nature (libre)
DESCRIPTION:
URL:https://photomaisonslaffitte.fr/photo_club_ml/event/analyse-ip-nature-libre/
LOCATION:salle\,  9bis\, rue Madeleine Boulenc de Crèvecoeur  à Maisons-Laffitte
CATEGORIES:Réunion / Séance
END:VEVENT
BEGIN:VEVENT
DTSTART;TZID=Europe/Paris:20251216T200000
DTEND;TZID=Europe/Paris:20251216T230000
DTSTAMP:20260424T195551
CREATED:20250908T074529Z
LAST-MODIFIED:20250908T074544Z
UID:14446-1765915200-1765926000@photomaisonslaffitte.fr
SUMMARY:Concours interne format IP : Vitrines (jugement final et résultats)
DESCRIPTION:  \nouverture 20h15- début séance 20h30 \n 
URL:https://photomaisonslaffitte.fr/photo_club_ml/event/concours-interne-format-ip-vitrines-jugement-final-et-resultats/
LOCATION:salle\,  9bis\, rue Madeleine Boulenc de Crèvecoeur  à Maisons-Laffitte
CATEGORIES:Concours
END:VEVENT
BEGIN:VEVENT
DTSTART;TZID=Europe/Paris:20251218T200000
DTEND;TZID=Europe/Paris:20251218T230000
DTSTAMP:20260424T195551
CREATED:20250908T074707Z
LAST-MODIFIED:20251202T223932Z
UID:14448-1766088000-1766098800@photomaisonslaffitte.fr
SUMMARY:Analyse IP: Intempéries - Neige
DESCRIPTION:ouverture 20h15- début séance 20h30
URL:https://photomaisonslaffitte.fr/photo_club_ml/event/analyse-ip-intemperies/
LOCATION:salle\,  9bis\, rue Madeleine Boulenc de Crèvecoeur  à Maisons-Laffitte
CATEGORIES:Réunion / Séance
END:VEVENT
BEGIN:VEVENT
DTSTART;VALUE=DATE:20251220
DTEND;VALUE=DATE:20260105
DTSTAMP:20260424T195551
CREATED:20250908T075031Z
LAST-MODIFIED:20250908T075031Z
UID:14452-1766188800-1767571199@photomaisonslaffitte.fr
SUMMARY:vacances de Noel -club fermé
DESCRIPTION:
URL:https://photomaisonslaffitte.fr/photo_club_ml/event/vacances-de-noel-club-ferme/
CATEGORIES:vacances
END:VEVENT
END:VCALENDAR