BEGIN:VCALENDAR
VERSION:2.0
PRODID:-//USML PHOTOCLUB MAISONS-LAFFITTE / Le Mesnil le Roi - ECPv6.15.20//NONSGML v1.0//EN
CALSCALE:GREGORIAN
METHOD:PUBLISH
X-WR-CALNAME:USML PHOTOCLUB MAISONS-LAFFITTE / Le Mesnil le Roi
X-ORIGINAL-URL:https://photomaisonslaffitte.fr/photo_club_ml
X-WR-CALDESC:Évènements pour USML PHOTOCLUB MAISONS-LAFFITTE / Le Mesnil le Roi
REFRESH-INTERVAL;VALUE=DURATION:PT1H
X-Robots-Tag:noindex
X-PUBLISHED-TTL:PT1H
BEGIN:VTIMEZONE
TZID:Europe/Paris
BEGIN:DAYLIGHT
TZOFFSETFROM:+0100
TZOFFSETTO:+0200
TZNAME:CEST
DTSTART:20240331T010000
END:DAYLIGHT
BEGIN:STANDARD
TZOFFSETFROM:+0200
TZOFFSETTO:+0100
TZNAME:CET
DTSTART:20241027T010000
END:STANDARD
BEGIN:DAYLIGHT
TZOFFSETFROM:+0100
TZOFFSETTO:+0200
TZNAME:CEST
DTSTART:20250330T010000
END:DAYLIGHT
BEGIN:STANDARD
TZOFFSETFROM:+0200
TZOFFSETTO:+0100
TZNAME:CET
DTSTART:20251026T010000
END:STANDARD
BEGIN:DAYLIGHT
TZOFFSETFROM:+0100
TZOFFSETTO:+0200
TZNAME:CEST
DTSTART:20260329T010000
END:DAYLIGHT
BEGIN:STANDARD
TZOFFSETFROM:+0200
TZOFFSETTO:+0100
TZNAME:CET
DTSTART:20261025T010000
END:STANDARD
BEGIN:DAYLIGHT
TZOFFSETFROM:+0100
TZOFFSETTO:+0200
TZNAME:CEST
DTSTART:20270328T010000
END:DAYLIGHT
BEGIN:STANDARD
TZOFFSETFROM:+0200
TZOFFSETTO:+0100
TZNAME:CET
DTSTART:20271031T010000
END:STANDARD
END:VTIMEZONE
BEGIN:VEVENT
DTSTART;VALUE=DATE:20251220
DTEND;VALUE=DATE:20260105
DTSTAMP:20260424T165239
CREATED:20250908T075031Z
LAST-MODIFIED:20250908T075031Z
UID:14452-1766188800-1767571199@photomaisonslaffitte.fr
SUMMARY:vacances de Noel -club fermé
DESCRIPTION:
URL:https://photomaisonslaffitte.fr/photo_club_ml/event/vacances-de-noel-club-ferme/
CATEGORIES:vacances
END:VEVENT
BEGIN:VEVENT
DTSTART;TZID=Europe/Paris:20260106T200000
DTEND;TZID=Europe/Paris:20260106T230000
DTSTAMP:20260424T165239
CREATED:20250908T074854Z
LAST-MODIFIED:20250908T074854Z
UID:14450-1767729600-1767740400@photomaisonslaffitte.fr
SUMMARY:Épiphanie- galette du club
DESCRIPTION:
URL:https://photomaisonslaffitte.fr/photo_club_ml/event/epiphanie-galette-du-club/
LOCATION:salle\,  9bis\, rue Madeleine Boulenc de Crèvecoeur  à Maisons-Laffitte
CATEGORIES:Réunion / Séance
END:VEVENT
BEGIN:VEVENT
DTSTART;TZID=Europe/Paris:20260108T200000
DTEND;TZID=Europe/Paris:20260108T230000
DTSTAMP:20260424T165239
CREATED:20250908T072915Z
LAST-MODIFIED:20251031T091915Z
UID:14425-1767902400-1767913200@photomaisonslaffitte.fr
SUMMARY:Atelier technique : Apprentissage de l'impression numérique
DESCRIPTION:ouverture 20h15- début séance 20h30
URL:https://photomaisonslaffitte.fr/photo_club_ml/event/atelier-technique-apprentissage-de-limpression-numerique/
LOCATION:salle\,  9bis\, rue Madeleine Boulenc de Crèvecoeur  à Maisons-Laffitte
CATEGORIES:Atelier
END:VEVENT
BEGIN:VEVENT
DTSTART;TZID=Europe/Paris:20260110T090000
DTEND;TZID=Europe/Paris:20260110T180000
DTSTAMP:20260424T165239
CREATED:20251031T092108Z
LAST-MODIFIED:20251031T092108Z
UID:14780-1768035600-1768068000@photomaisonslaffitte.fr
SUMMARY:Le Vésinet : Résultats des challenges UR15
DESCRIPTION:résultats des challenges UR15 au Vésinet
URL:https://photomaisonslaffitte.fr/photo_club_ml/event/le-vesinet-resultats-des-challenges-ur15/
CATEGORIES:Concours,évènements suivis
END:VEVENT
BEGIN:VEVENT
DTSTART;TZID=Europe/Paris:20260113T200000
DTEND;TZID=Europe/Paris:20260113T230000
DTSTAMP:20260424T165239
CREATED:20251031T092345Z
LAST-MODIFIED:20251031T092345Z
UID:14782-1768334400-1768345200@photomaisonslaffitte.fr
SUMMARY:Série diaporama/ audiovisuel
DESCRIPTION:max  2 diaporamas par personnes (durée 5 à 10′ max) \nouverture 20h15 – début de séance 20h30
URL:https://photomaisonslaffitte.fr/photo_club_ml/event/serie-diaporama-audiovisuel/
LOCATION:salle\,  9bis\, rue Madeleine Boulenc de Crèvecoeur  à Maisons-Laffitte
CATEGORIES:Réunion / Séance
END:VEVENT
BEGIN:VEVENT
DTSTART;TZID=Europe/Paris:20260115T200000
DTEND;TZID=Europe/Paris:20260115T230000
DTSTAMP:20260424T165239
CREATED:20251031T092456Z
LAST-MODIFIED:20251031T092456Z
UID:14784-1768507200-1768518000@photomaisonslaffitte.fr
SUMMARY:Analyse IP : Fleurs\, éventuellement créatives (en couleur\, format Portrait (thème 5 challenge FPF)
DESCRIPTION:  \nouverture 20h15 – début de séance 20h30
URL:https://photomaisonslaffitte.fr/photo_club_ml/event/analyse-ip-fleurs-eventuellement-creatives-en-couleur-format-portrait-theme-5-challenge-fpf/
LOCATION:salle\,  9bis\, rue Madeleine Boulenc de Crèvecoeur  à Maisons-Laffitte
CATEGORIES:Réunion / Séance
END:VEVENT
BEGIN:VEVENT
DTSTART;TZID=Europe/Paris:20260120T200000
DTEND;TZID=Europe/Paris:20260120T230000
DTSTAMP:20260424T165239
CREATED:20251031T092558Z
LAST-MODIFIED:20251103T172049Z
UID:14786-1768939200-1768950000@photomaisonslaffitte.fr
SUMMARY:Analyse IP des photos des challenges de l'UR15 et sélection de photos "sortie passages parisiens"
DESCRIPTION:  \n\nAnalyse IP des photos déposées et primées aux challenges de l’UR15\nsélection des photos “sorties passages parisiens”\n\nouverture 20h15 – début de séance 20h30
URL:https://photomaisonslaffitte.fr/photo_club_ml/event/analyse-ip-des-photos-deposees-et-primees-aux-challenges-de-lur15/
LOCATION:salle\,  9bis\, rue Madeleine Boulenc de Crèvecoeur  à Maisons-Laffitte
CATEGORIES:Atelier
END:VEVENT
BEGIN:VEVENT
DTSTART;TZID=Europe/Paris:20260122T200000
DTEND;TZID=Europe/Paris:20260122T230000
DTSTAMP:20260424T165239
CREATED:20251031T092724Z
LAST-MODIFIED:20251031T092724Z
UID:14788-1769112000-1769122800@photomaisonslaffitte.fr
SUMMARY:Analyse IP :En musique (Thème 6 du challenge FPF)
DESCRIPTION:  \nouverture 20h15 – début de séance 20h30
URL:https://photomaisonslaffitte.fr/photo_club_ml/event/analyse-ip-en-musique-theme-6-du-challenge-fpf/
LOCATION:salle\,  9bis\, rue Madeleine Boulenc de Crèvecoeur  à Maisons-Laffitte
CATEGORIES:Réunion / Séance
END:VEVENT
BEGIN:VEVENT
DTSTART;TZID=Europe/Paris:20260124T150000
DTEND;TZID=Europe/Paris:20260124T233000
DTSTAMP:20260424T165239
CREATED:20251031T092915Z
LAST-MODIFIED:20251031T092915Z
UID:14790-1769266800-1769297400@photomaisonslaffitte.fr
SUMMARY:Sortie Ponts de Paris de nuit( à partir fin d'après-midi) (OB)
DESCRIPTION:lieu de RDV et horaires- à communiquer par Olivier Bonnefond
URL:https://photomaisonslaffitte.fr/photo_club_ml/event/sortie-ponts-de-paris-de-nuit-a-partir-fin-dapres-midi-ob/
CATEGORIES:Sortie
END:VEVENT
BEGIN:VEVENT
DTSTART;TZID=Europe/Paris:20260127T200000
DTEND;TZID=Europe/Paris:20260127T230000
DTSTAMP:20260424T165239
CREATED:20251031T093039Z
LAST-MODIFIED:20251031T093039Z
UID:14792-1769544000-1769554800@photomaisonslaffitte.fr
SUMMARY:Analyse IP- QUADRIMAGE
DESCRIPTION:ouverture 20h15 \, début de séance 20h30
URL:https://photomaisonslaffitte.fr/photo_club_ml/event/analyse-ip-quadrimage/
CATEGORIES:Réunion / Séance
END:VEVENT
BEGIN:VEVENT
DTSTART;TZID=Europe/Paris:20260129T200000
DTEND;TZID=Europe/Paris:20260129T230000
DTSTAMP:20260424T165239
CREATED:20251031T093311Z
LAST-MODIFIED:20251031T093311Z
UID:14794-1769716800-1769727600@photomaisonslaffitte.fr
SUMMARY:Analyse IP: A la manière de Michael Kenna (thème 7 challlenge FPF)
DESCRIPTION:ouverture 20h15 \, début de séance 20h30 \nPour découvrir le photographe: https://www.michaelkenna.com/index2.php \n 
URL:https://photomaisonslaffitte.fr/photo_club_ml/event/analyse-ip-a-la-maniere-de-michael-kenna-theme-7-challlenge-fpf/
CATEGORIES:Réunion / Séance
END:VEVENT
END:VCALENDAR