BEGIN:VCALENDAR
VERSION:2.0
PRODID:-//USML PHOTOCLUB MAISONS-LAFFITTE / Le Mesnil le Roi - ECPv6.15.20//NONSGML v1.0//EN
CALSCALE:GREGORIAN
METHOD:PUBLISH
X-ORIGINAL-URL:https://photomaisonslaffitte.fr/photo_club_ml
X-WR-CALDESC:Évènements pour USML PHOTOCLUB MAISONS-LAFFITTE / Le Mesnil le Roi
REFRESH-INTERVAL;VALUE=DURATION:PT1H
X-Robots-Tag:noindex
X-PUBLISHED-TTL:PT1H
BEGIN:VTIMEZONE
TZID:Europe/Paris
BEGIN:DAYLIGHT
TZOFFSETFROM:+0100
TZOFFSETTO:+0200
TZNAME:CEST
DTSTART:20250330T010000
END:DAYLIGHT
BEGIN:STANDARD
TZOFFSETFROM:+0200
TZOFFSETTO:+0100
TZNAME:CET
DTSTART:20251026T010000
END:STANDARD
BEGIN:DAYLIGHT
TZOFFSETFROM:+0100
TZOFFSETTO:+0200
TZNAME:CEST
DTSTART:20260329T010000
END:DAYLIGHT
BEGIN:STANDARD
TZOFFSETFROM:+0200
TZOFFSETTO:+0100
TZNAME:CET
DTSTART:20261025T010000
END:STANDARD
BEGIN:DAYLIGHT
TZOFFSETFROM:+0100
TZOFFSETTO:+0200
TZNAME:CEST
DTSTART:20270328T010000
END:DAYLIGHT
BEGIN:STANDARD
TZOFFSETFROM:+0200
TZOFFSETTO:+0100
TZNAME:CET
DTSTART:20271031T010000
END:STANDARD
END:VTIMEZONE
BEGIN:VEVENT
DTSTART;TZID=Europe/Paris:20260304T200000
DTEND;TZID=Europe/Paris:20260304T230000
DTSTAMP:20260424T133500
CREATED:20251031T210512Z
LAST-MODIFIED:20251031T210512Z
UID:14819-1772654400-1772665200@photomaisonslaffitte.fr
SUMMARY:Analyse IP: valorisation des photos (theme libre) par des encadrements
DESCRIPTION:Mettez numériquement vos photos en valeur en ajoutant des cadres adaptés (présentation des photos sans cadres et avec cadre ( meme nom de photo en terminant par -c\, par exemple ; 01-LAMO-tutu.jpg et 01-LAMO-tutu-c.jpg) \n  \nouverture salle 20h15-début de séance :20h30
URL:https://photomaisonslaffitte.fr/photo_club_ml/event/analyse-ip-valorisation-des-photos-theme-libre-par-des-encadrements/
LOCATION:Visio
CATEGORIES:Réunion / Séance
END:VEVENT
BEGIN:VEVENT
DTSTART;TZID=Europe/Paris:20260309T130000
DTEND;TZID=Europe/Paris:20260309T200000
DTSTAMP:20260424T133500
CREATED:20251031T211222Z
LAST-MODIFIED:20251031T211440Z
UID:14821-1773061200-1773086400@photomaisonslaffitte.fr
SUMMARY:Carnaval de Paris 2026-évènement annulé par les organisateurs
DESCRIPTION:Info du 25/10/2025 (https://www.carnaval-paris.org/)\nCarnaval de Paris et Carnaval des Femmes est Annulées\n23/10/2025\n\n\nCommuniqué officiel concernant le Carnaval de Paris et le carnaval des femmes \nChers participants\, amis du Carnaval de Paris et Carnaval des femmes \nC’est avec un profond regret que je vous annonce\, au nom de l’association droit à la culture\, la décision de mettre fin au Carnaval de Paris et le Carnaval des femmes . Cette décision\, difficile à prendre\, fait suite à manque de moyen humain et de subvention. L’impossibilité d’assurer la sécurité des participants\, manque de financement\, manque de bénévoles. \nNous comprenons que cette nouvelle sera accueillie avec déception par beaucoup d’entre vous\, et nous partageons votre tristesse. Le Carnaval de Paris et le carnaval des femmes est une tradition riche et vibrante\, et nous sommes conscients de l’importance qu’il revêt pour de nombreuses personnes. \nNous tenons à remercier chaleureusement tous ceux qui ont contribué au succès du Carnaval de Paris et au carnaval des femmes au fil des ans : les participants\, les bénévoles\, les artistes\, et les habitants de Paris. Votre passion et votre engagement ont été essentiels à la vie de cet événement. \nCordialement
URL:https://photomaisonslaffitte.fr/photo_club_ml/event/carnaval-de-paris-2026-evenement-annule-par-les-organisateurs/
CATEGORIES:Sortie
END:VEVENT
BEGIN:VEVENT
DTSTART;TZID=Europe/Paris:20260310T200000
DTEND;TZID=Europe/Paris:20260310T230000
DTSTAMP:20260424T133500
CREATED:20251031T211629Z
LAST-MODIFIED:20251031T211629Z
UID:14823-1773172800-1773183600@photomaisonslaffitte.fr
SUMMARY:Analyse IP: Vert (avec excercice notation)
DESCRIPTION:  \nouverture salle 20h15-début de séance :20h30
URL:https://photomaisonslaffitte.fr/photo_club_ml/event/analyse-ip-vert-avec-excercice-notation/
LOCATION:salle\,  9bis\, rue Madeleine Boulenc de Crèvecoeur  à Maisons-Laffitte
CATEGORIES:Réunion / Séance
END:VEVENT
BEGIN:VEVENT
DTSTART;TZID=Europe/Paris:20260312T203000
DTEND;TZID=Europe/Paris:20260312T230000
DTSTAMP:20260424T133500
CREATED:20260310T124831Z
LAST-MODIFIED:20260311T100837Z
UID:15277-1773347400-1773356400@photomaisonslaffitte.fr
SUMMARY:Atelier thème libre
DESCRIPTION:animation : Alain
URL:https://photomaisonslaffitte.fr/photo_club_ml/event/atelier-theme-libre-a-confirmer/
LOCATION:salle\,  9bis\, rue Madeleine Boulenc de Crèvecoeur  à Maisons-Laffitte
CATEGORIES:Atelier
END:VEVENT
BEGIN:VEVENT
DTSTART;VALUE=DATE:20260314
DTEND;VALUE=DATE:20260315
DTSTAMP:20260424T133500
CREATED:20251031T211954Z
LAST-MODIFIED:20251031T212049Z
UID:14827-1773446400-1773532799@photomaisonslaffitte.fr
SUMMARY:Concours interne - Marathon photo
DESCRIPTION:Réglement\, lieu et horaires précis : seront confirmés par Philippe \n  \nLes photos seront à déposer sur site Joomeo pour le lundi soir au plus tard.
URL:https://photomaisonslaffitte.fr/photo_club_ml/event/concours-interne-marathon-photo/
CATEGORIES:Concours
END:VEVENT
BEGIN:VEVENT
DTSTART;TZID=Europe/Paris:20260317T200000
DTEND;TZID=Europe/Paris:20260317T230000
DTSTAMP:20260424T133500
CREATED:20251031T211757Z
LAST-MODIFIED:20260310T090133Z
UID:14825-1773777600-1773788400@photomaisonslaffitte.fr
SUMMARY:Présentation technique : Flashs cobras
DESCRIPTION:ouverture salle 20h15-début de séance :20h30 \nattention évènement prévu le 12\, remis au 17mars \nPar Michel
URL:https://photomaisonslaffitte.fr/photo_club_ml/event/presentation-technique-flashs-cobras/
LOCATION:salle\,  9bis\, rue Madeleine Boulenc de Crèvecoeur  à Maisons-Laffitte
CATEGORIES:Atelier
END:VEVENT
BEGIN:VEVENT
DTSTART;TZID=Europe/Paris:20260317T200000
DTEND;TZID=Europe/Paris:20260317T230000
DTSTAMP:20260424T133500
CREATED:20251031T212217Z
LAST-MODIFIED:20260310T124554Z
UID:14830-1773777600-1773788400@photomaisonslaffitte.fr
SUMMARY:Atelier technique la colorimétrie\, les couleurs- REPORTE
DESCRIPTION:ouverture salle 20h15-début de séance :20h30 \nattention atelier remplacé par atelier flash cobra et décalé a date ultérieure \n  \nanimateur à trouver
URL:https://photomaisonslaffitte.fr/photo_club_ml/event/atelier-technique-la-colorimetrie-les-couleurs/
LOCATION:salle\,  9bis\, rue Madeleine Boulenc de Crèvecoeur  à Maisons-Laffitte
CATEGORIES:Atelier
END:VEVENT
BEGIN:VEVENT
DTSTART;TZID=Europe/Paris:20260319T200000
DTEND;TZID=Europe/Paris:20260319T230000
DTSTAMP:20260424T133500
CREATED:20251031T212408Z
LAST-MODIFIED:20251031T212408Z
UID:14832-1773950400-1773961200@photomaisonslaffitte.fr
SUMMARY:Concours interne -Marathon photo-jugement/ résultats visio
DESCRIPTION:Concours interne -Marathon photo-jugement/ résultats visio
URL:https://photomaisonslaffitte.fr/photo_club_ml/event/concours-interne-marathon-photo-jugement-resultats-visio/
LOCATION:visio
CATEGORIES:Concours,Réunion / Séance
END:VEVENT
BEGIN:VEVENT
DTSTART;TZID=Europe/Paris:20260324T200000
DTEND;TZID=Europe/Paris:20260324T230000
DTSTAMP:20260424T133500
CREATED:20251031T212642Z
LAST-MODIFIED:20260310T124355Z
UID:14834-1774382400-1774393200@photomaisonslaffitte.fr
SUMMARY:Atelier technique-Découverte de la macro
DESCRIPTION:ouverture salle 20h15-début de séance :20h30 \nmacro et proxy \n  \n 
URL:https://photomaisonslaffitte.fr/photo_club_ml/event/atelier-technique-decouverte-de-la-macro/
LOCATION:salle\,  9bis\, rue Madeleine Boulenc de Crèvecoeur  à Maisons-Laffitte
CATEGORIES:Atelier
END:VEVENT
BEGIN:VEVENT
DTSTART;TZID=Europe/Paris:20260326T200000
DTEND;TZID=Europe/Paris:20260326T230000
DTSTAMP:20260424T133500
CREATED:20251031T213051Z
LAST-MODIFIED:20251031T213051Z
UID:14836-1774555200-1774566000@photomaisonslaffitte.fr
SUMMARY:Analyse IP: série photo
DESCRIPTION:ouverture salle 20h15-début de séance :20h30 \n  \nattention numérotation des photos suivant le principe des séries (1 série photo de 8 à 12 photos avec en plus un texte faisant office de une dernière photo)
URL:https://photomaisonslaffitte.fr/photo_club_ml/event/analyse-ip-serie-photo/
LOCATION:salle\,  9bis\, rue Madeleine Boulenc de Crèvecoeur  à Maisons-Laffitte
CATEGORIES:Réunion / Séance
END:VEVENT
BEGIN:VEVENT
DTSTART;VALUE=DATE:20260329
DTEND;VALUE=DATE:20260330
DTSTAMP:20260424T133500
CREATED:20251031T213149Z
LAST-MODIFIED:20251031T213149Z
UID:14838-1774742400-1774828799@photomaisonslaffitte.fr
SUMMARY:Passage à l'heure d'été
DESCRIPTION:
URL:https://photomaisonslaffitte.fr/photo_club_ml/event/passage-a-lheure-dete/
END:VEVENT
BEGIN:VEVENT
DTSTART;VALUE=DATE:20260329
DTEND;VALUE=DATE:20260330
DTSTAMP:20260424T133500
CREATED:20251031T213333Z
LAST-MODIFIED:20251031T213333Z
UID:14840-1774742400-1774828799@photomaisonslaffitte.fr
SUMMARY:Sortie passages de Paris
DESCRIPTION:horaires et rendez-vous à confirmer par Olivier \nattention horaire d’été
URL:https://photomaisonslaffitte.fr/photo_club_ml/event/sortie-passages-de-paris/
CATEGORIES:Sortie
END:VEVENT
BEGIN:VEVENT
DTSTART;TZID=Europe/Paris:20260331T200000
DTEND;TZID=Europe/Paris:20260331T230000
DTSTAMP:20260424T133500
CREATED:20251031T213508Z
LAST-MODIFIED:20251031T213508Z
UID:14842-1774987200-1774998000@photomaisonslaffitte.fr
SUMMARY:Analyse IP: Courbes
DESCRIPTION:ouverture salle 20h15-début de séance :20h30
URL:https://photomaisonslaffitte.fr/photo_club_ml/event/analyse-ip-courbes/
LOCATION:salle\,  9bis\, rue Madeleine Boulenc de Crèvecoeur  à Maisons-Laffitte
CATEGORIES:Réunion / Séance
END:VEVENT
END:VCALENDAR